BEGIN:VCALENDAR
VERSION:2.0
PRODID:-//Four solaire solidaire - ECPv6.15.20//NONSGML v1.0//EN
CALSCALE:GREGORIAN
METHOD:PUBLISH
X-WR-CALNAME:Four solaire solidaire
X-ORIGINAL-URL:https://four-solaire-solidaire.net
X-WR-CALDESC:Évènements pour Four solaire solidaire
REFRESH-INTERVAL;VALUE=DURATION:PT1H
X-Robots-Tag:noindex
X-PUBLISHED-TTL:PT1H
BEGIN:VTIMEZONE
TZID:Europe/Paris
BEGIN:DAYLIGHT
TZOFFSETFROM:+0100
TZOFFSETTO:+0200
TZNAME:CEST
DTSTART:20230326T010000
END:DAYLIGHT
BEGIN:STANDARD
TZOFFSETFROM:+0200
TZOFFSETTO:+0100
TZNAME:CET
DTSTART:20231029T010000
END:STANDARD
BEGIN:DAYLIGHT
TZOFFSETFROM:+0100
TZOFFSETTO:+0200
TZNAME:CEST
DTSTART:20240331T010000
END:DAYLIGHT
BEGIN:STANDARD
TZOFFSETFROM:+0200
TZOFFSETTO:+0100
TZNAME:CET
DTSTART:20241027T010000
END:STANDARD
BEGIN:DAYLIGHT
TZOFFSETFROM:+0100
TZOFFSETTO:+0200
TZNAME:CEST
DTSTART:20250330T010000
END:DAYLIGHT
BEGIN:STANDARD
TZOFFSETFROM:+0200
TZOFFSETTO:+0100
TZNAME:CET
DTSTART:20251026T010000
END:STANDARD
BEGIN:DAYLIGHT
TZOFFSETFROM:+0100
TZOFFSETTO:+0200
TZNAME:CEST
DTSTART:20260329T010000
END:DAYLIGHT
BEGIN:STANDARD
TZOFFSETFROM:+0200
TZOFFSETTO:+0100
TZNAME:CET
DTSTART:20261025T010000
END:STANDARD
BEGIN:DAYLIGHT
TZOFFSETFROM:+0100
TZOFFSETTO:+0200
TZNAME:CEST
DTSTART:20270328T010000
END:DAYLIGHT
BEGIN:STANDARD
TZOFFSETFROM:+0200
TZOFFSETTO:+0100
TZNAME:CET
DTSTART:20271031T010000
END:STANDARD
END:VTIMEZONE
BEGIN:VEVENT
DTSTART;TZID=Europe/Paris:20260307T100000
DTEND;TZID=Europe/Paris:20260308T180000
DTSTAMP:20260419T155843
CREATED:20260209T102721Z
LAST-MODIFIED:20260209T102723Z
UID:2510-1772877600-1772992800@four-solaire-solidaire.net
SUMMARY:Portes Ouvertes AÉSS
DESCRIPTION:présentation des différents types de cuiseurs solaires
URL:https://four-solaire-solidaire.net/event/portes-ouvertes-aess/
ATTACH;FMTTYPE=image/jpeg:https://four-solaire-solidaire.net/wp-content/uploads/2026/02/2026-02-06-AFFICHE2-6-15h31-1.jpg
END:VEVENT
BEGIN:VEVENT
DTSTART;TZID=Europe/Paris:20251106T193000
DTEND;TZID=Europe/Paris:20251106T200000
DTSTAMP:20260419T155844
CREATED:20251030T101327Z
LAST-MODIFIED:20251030T101328Z
UID:2465-1762457400-1762459200@four-solaire-solidaire.net
SUMMARY:café philosophique
DESCRIPTION:
URL:https://four-solaire-solidaire.net/event/cafe-philosophique/
CATEGORIES:Manifestation
ATTACH;FMTTYPE=image/jpeg:https://four-solaire-solidaire.net/wp-content/uploads/2025/10/2025-10-23-CAFE-PHILO-Mignaloux-09h21.jpg
ORGANIZER;CN="ecologie":MAILTO:canton86320@orange.fr
END:VEVENT
BEGIN:VEVENT
DTSTART;TZID=Europe/Paris:20251101T000000
DTEND;TZID=Europe/Paris:20251101T000000
DTSTAMP:20260419T155844
CREATED:20250511T143803Z
LAST-MODIFIED:20251030T101746Z
UID:2416-1761955200-1761955200@four-solaire-solidaire.net
SUMMARY:
DESCRIPTION:
URL:https://four-solaire-solidaire.net/event/mission-cuisson-solaire-au-tchad/
END:VEVENT
BEGIN:VEVENT
DTSTART;TZID=Europe/Paris:20251004T203000
DTEND;TZID=Europe/Paris:20251004T230000
DTSTAMP:20260419T155844
CREATED:20250116T101933Z
LAST-MODIFIED:20250116T101935Z
UID:2334-1759609800-1759618800@four-solaire-solidaire.net
SUMMARY:Soirée spectacle «aux Magnals» : percussions africaines
DESCRIPTION:Soirée spectacle « aux Magnals » : percussions africaines \n\n\n\nOuverture des portes à 20h15
URL:https://four-solaire-solidaire.net/event/soiree-spectacle-aux-magnals-percussions-africaines/
LOCATION:Les magnals\, 86550 Mignaloux-Beauvoir\, 192 Allée des Magnals\, Mignaloux-Beauvoir\, 86550\, France
CATEGORIES:Manifestation
END:VEVENT
BEGIN:VEVENT
DTSTART;TZID=Europe/Paris:20251004T100000
DTEND;TZID=Europe/Paris:20251005T180000
DTSTAMP:20260419T155844
CREATED:20250116T101158Z
LAST-MODIFIED:20250116T101201Z
UID:2333-1759572000-1759687200@four-solaire-solidaire.net
SUMMARY:4ème fête de la science\, maison des associations «Les Magnals»
DESCRIPTION:Stands de l’AÉSS de démonstration cuisson solaire ; présentation de nos fours\, de notre bisemestriel « La gazette des amis de l’écologie »\, de nos activités… \n\n\n\nPossibilités pic nic sur tables (buvette associative); repas sur réservation uniquement ; réservation de stages… \n\n\n\nDémonstration du vélo à hydrogène\, fabrication française au Pays basque \n\n\n\nExposition « Le soleil et nous » ; causerie philosophique ; démonstrations scientifiques sur l’énergie ; Observations du soleil ;
URL:https://four-solaire-solidaire.net/event/4eme-fete-de-la-science-maison-des-associations-les-magnals/
LOCATION:Les magnals\, 86550 Mignaloux-Beauvoir\, 192 Allée des Magnals\, Mignaloux-Beauvoir\, 86550\, France
END:VEVENT
BEGIN:VEVENT
DTSTART;TZID=Europe/Paris:20250831T080000
DTEND;TZID=Europe/Paris:20250831T180000
DTSTAMP:20260419T155844
CREATED:20250116T100828Z
LAST-MODIFIED:20250116T100830Z
UID:2332-1756627200-1756663200@four-solaire-solidaire.net
SUMMARY:Forum des associations & Grande Braderie - Mignaloux-Beauvoir
DESCRIPTION:Stands de l’AÉSS de démonstration cuisson solaire ; présentation de nos fours\, de notre gazette\, de nos activités… Exposition « Le soleil et nous » ; causerie philosophique ;  démonstrations scientifiques sur l’énergie ; Observations du soleil ; \n\n\n\nPossibilités pic nic sur tables ombragées (buvette associative ; frittes\, saucisses grillées..); réservation de stages…
URL:https://four-solaire-solidaire.net/event/forum-des-associations-grande-braderie-mignaloux-beauvoir/
LOCATION:Les magnals\, 86550 Mignaloux-Beauvoir\, 192 Allée des Magnals\, Mignaloux-Beauvoir\, 86550\, France
CATEGORIES:Manifestation
END:VEVENT
BEGIN:VEVENT
DTSTART;TZID=Europe/Paris:20250715T000000
DTEND;TZID=Europe/Paris:20250815T000000
DTSTAMP:20260419T155844
CREATED:20250511T143214Z
LAST-MODIFIED:20250511T143438Z
UID:2412-1752537600-1755216000@four-solaire-solidaire.net
SUMMARY:Mission "cuisson solaire" au Sénégal
DESCRIPTION:
URL:https://four-solaire-solidaire.net/event/mission-cuisson-solaire-au-senegal-2/
END:VEVENT
BEGIN:VEVENT
DTSTART;TZID=Europe/Paris:20250706T100000
DTEND;TZID=Europe/Paris:20250706T180000
DTSTAMP:20260419T155844
CREATED:20250116T100435Z
LAST-MODIFIED:20250511T135344Z
UID:2331-1751796000-1751824800@four-solaire-solidaire.net
SUMMARY:salon du livre régional\, château de la Mothe Persac
DESCRIPTION:Nous y présenterons nos 12 périodiques  « La gazette des amis de l’écologie rurale en Vienne » ainsi que nos cartes postales
URL:https://four-solaire-solidaire.net/event/commemoration-81ans-du-crash-du-bombardier-americain-b17g/
LOCATION:château de la Mothe\, 5 rue de la mothe\, Persac\, 86230
CATEGORIES:Manifestation
END:VEVENT
BEGIN:VEVENT
DTSTART;TZID=Europe/Paris:20250626T134500
DTEND;TZID=Europe/Paris:20250626T170000
DTSTAMP:20260419T155844
CREATED:20250511T141643Z
LAST-MODIFIED:20250511T141648Z
UID:2408-1750945500-1750957200@four-solaire-solidaire.net
SUMMARY:Réunion publique nouvelle association ADVIenne amicale de Défense des Victimes de l'Incontinence en Vienne et NA
DESCRIPTION:
URL:https://four-solaire-solidaire.net/event/reunion-publique-nouvelle-association-advienne-amicale-de-defense-des-victimes-de-lincontinence-en-vienne-et-na/
END:VEVENT
BEGIN:VEVENT
DTSTART;TZID=Europe/Paris:20250622T090000
DTEND;TZID=Europe/Paris:20250622T180000
DTSTAMP:20260419T155844
CREATED:20250116T095416Z
LAST-MODIFIED:20250511T134003Z
UID:2329-1750582800-1750615200@four-solaire-solidaire.net
SUMMARY:4ème fête du soleil
DESCRIPTION:Dimanche 22 juin : \n\n\n\n9h30 : petite balade culturelle commentée entre fours à pains et bas fourneaux gauloisdépart place de l’église\, distance aller 1\,6km. Accès possible fauteuil roulant VTC… \n\n\n\nmidi : possibilité de pic nic\, tables ombragées place de l’église\, buvette associative… \n\n\n\naprès midi : stand de l’AÉSS de démonstration cuisson solaire ; présentation de notre gazette\, de nos activités… causerie philosophique ; démonstrations scientifiques sur l’énergie ; Observations du soleil ; réservation de stages ; Observations du ciel étoilé à la tombée de la nuit (22h)…
URL:https://four-solaire-solidaire.net/event/4eme-fete-du-soleil/
LOCATION:Place de l’église\, Place de l'église\, Mignaloux-Beauvoir\, 86550
CATEGORIES:Manifestation
END:VEVENT
BEGIN:VEVENT
DTSTART;TZID=Europe/Paris:20250531T080000
DTEND;TZID=Europe/Paris:20250531T180000
DTSTAMP:20260419T155844
CREATED:20250116T094914Z
LAST-MODIFIED:20250116T094915Z
UID:2325-1748678400-1748714400@four-solaire-solidaire.net
SUMMARY:Festival des improbables - Lathus Saint Rémy
DESCRIPTION:Stand de l’AÉSS de démonstration cuisson solaire ; présentation de notre gazette\, de nos activités
URL:https://four-solaire-solidaire.net/event/festival-des-improbables-lathus-saint-remy/
LOCATION:Ferme du Peu\, 2 Rue Ferme Le Peux\, Lathus-Saint-Rémy\, 86390
CATEGORIES:Manifestation
END:VEVENT
BEGIN:VEVENT
DTSTART;TZID=Europe/Paris:20250524T100000
DTEND;TZID=Europe/Paris:20250524T180000
DTSTAMP:20260419T155844
CREATED:20250520T091511Z
LAST-MODIFIED:20250520T091513Z
UID:2440-1748080800-1748109600@four-solaire-solidaire.net
SUMMARY:salon Croqu'arts Mignaloux
DESCRIPTION:Salon des arts plastiques
URL:https://four-solaire-solidaire.net/event/salon-croquarts-mignaloux/
LOCATION:Les magnals\, 86550 Mignaloux-Beauvoir\, 192 Allée des Magnals\, Mignaloux-Beauvoir\, 86550\, France
END:VEVENT
BEGIN:VEVENT
DTSTART;TZID=Europe/Paris:20250518T090000
DTEND;TZID=Europe/Paris:20250518T180000
DTSTAMP:20260419T155844
CREATED:20250511T141221Z
LAST-MODIFIED:20250511T142842Z
UID:2403-1747558800-1747591200@four-solaire-solidaire.net
SUMMARY:Le monde de fête - Poitiers
DESCRIPTION:Moulin de Chasseigne\, stand « cuisson solaire » pour « Le monde de fête« . Programme complet sur https://toitdumonde.centres-sociaux.fr/
URL:https://four-solaire-solidaire.net/event/le-monde-de-fete-poitiers/
LOCATION:Terrains sportifs du moulin de Chasseigne\, 53 Bd Chasseigne\, Poitiers\, 86000
END:VEVENT
BEGIN:VEVENT
DTSTART;TZID=Europe/Paris:20250517T090000
DTEND;TZID=Europe/Paris:20250517T180000
DTSTAMP:20260419T155844
CREATED:20250511T140202Z
LAST-MODIFIED:20250511T140259Z
UID:2398-1747472400-1747504800@four-solaire-solidaire.net
SUMMARY:Festival des 48h de l'agriculture urbaine - La Rochelle
DESCRIPTION:stand « cuisson solaire » à la « journée de l’agriculture urbaine » organisée par Perma Odyssée
URL:https://four-solaire-solidaire.net/event/festival-des-48h-de-lagriculture-urbaine-la-rochelle/
LOCATION:journée de l’agriculture urbaine\, 2 rue basse de Saint Eloi\, La Rochelle\, 17000
END:VEVENT
BEGIN:VEVENT
DTSTART;TZID=Europe/Paris:20250501T080000
DTEND;TZID=Europe/Paris:20250501T180000
DTSTAMP:20260419T155844
CREATED:20250116T094118Z
LAST-MODIFIED:20250116T094120Z
UID:2319-1746086400-1746122400@four-solaire-solidaire.net
SUMMARY:Fête du 1er mai à Queaux
DESCRIPTION:Le jeudi 1er mai \n\n\n\nStand de l’AÉSS de démonstration cuisson solaire ; présentation de notre gazette\, de nos activités…
URL:https://four-solaire-solidaire.net/event/fete-du-1er-mai-a-queaux-2/
LOCATION:Fête du 1er mai à Queaux\, Le bourg\, Queaux\, 86150
CATEGORIES:Manifestation
END:VEVENT
BEGIN:VEVENT
DTSTART;TZID=Europe/Paris:20250323T090000
DTEND;TZID=Europe/Paris:20250323T180000
DTSTAMP:20260419T155844
CREATED:20250116T093048Z
LAST-MODIFIED:20250116T094214Z
UID:2317-1742720400-1742752800@four-solaire-solidaire.net
SUMMARY:Fête de la nature de Mignaloux-Beauvoir\,
DESCRIPTION:Stand de l’AÉSS de démonstration cuisson solaire ; présentation de notre gazette\, de nos activités…
URL:https://four-solaire-solidaire.net/event/fete-de-la-nature-de-mignaloux-beauvoir/
LOCATION:Les magnals\, 86550 Mignaloux-Beauvoir\, 192 Allée des Magnals\, Mignaloux-Beauvoir\, 86550\, France
CATEGORIES:Manifestation
END:VEVENT
BEGIN:VEVENT
DTSTART;TZID=Europe/Paris:20250301T100000
DTEND;TZID=Europe/Paris:20250302T170000
DTSTAMP:20260419T155844
CREATED:20250219T141220Z
LAST-MODIFIED:20250219T141953Z
UID:2379-1740823200-1740934800@four-solaire-solidaire.net
SUMMARY:Portes Ouvertes de l'Amicale de l'énergie solaire et solidaire les 1er et 2 mars
DESCRIPTION:Portes ouvertes organisées par l’AESS\n\n\n\nL’A.É.S.S. (Amicale de l’énergie solaire et solidaire)\, vous invite à ses Portes Ouvertes les 1er et 2 mars\,au 1662 route de la Vallée des Touches de Mignaloux-Beauvoir 86550 (Poitiers Est) \n\n\n\nVous pourrez découvrir l’exposition\, la vente de divers objets et des démonstrations de ses différents modèles de fours solaires (paraboliques\, à tube sous vide…C’est l’occasion de perfectionner vos connaissances en matière de cuisson par le soleil\, si efficace et gratuite…Vous pourrez aussi\, le cas échéant\, réserver votre prochain stage d’auto fabrication du four solaire parabolique familial « le Mignalien 140 SFF ».Vous pourrez aussi découvrir l’installation d’une centrale photovoltaïque et d’un chauffe eau solaire qui produit de l’eau chaude depuis 20 ans\, sans énergie fossile et sans panne…Vous pourrez vous initier à la pyrogravure solaire à l’aide d’une lentille de Fresnel.Vous pourrez jetez un œil dans le passé à travers la gueule du four à pain traditionnel avec sa voûte de briques et toujours opérationnel après plus de 3 siècles de service.Vous pourrez lire l’heure sur un cadran solaire analemmatique!Enfin vous pourrez consulter notre périodique bi trimestriel :« La gazette des amis de l’écologie rurale» et nos cartes postales authentiques.Vous pourrez pic niquer sur place\, sur nos tables à l’ombre de l’if.La participation est libre\, au profit de nos projets de recherche et de développement\, et de solidarité autour de la cuisson solaire. \n\n\n\nInfos pratiques : \n\n\n\nContact : Jean-Luc Herpin\, Président de l’AÉSStel 06 85 80 94 13four.solaire.solidaire@gmail.comwww.four-solaire-solidaire.net \n\n\n\nLigne de bus Vitalis 33 ; arrêt : « la Vallée des Touches ».Venez en curieux avec quelques piécettes pour notre caissette ! \n\n\n\nToute l’équipe de bénévoles de l’AÉSS saura vous rassasier de notre longue expérience pour les applications familiales de l’énergie solaire ! \n\n\n\nÀ Bétou. Ô piési de vous accueillir.! \n\n\n\n \n\n\n\nPortes ouvertes organisées par l’AESS
URL:https://four-solaire-solidaire.net/event/four-solaire-portes-ouvertes/
LOCATION:AESS – Siège – Ateliers\, 1662 route de la Vallée des Touches\, Mignaloux Beauvoir\, 86550\, France
END:VEVENT
BEGIN:VEVENT
DTSTART;TZID=Europe/Paris:20250301T090000
DTEND;TZID=Europe/Paris:20250302T170000
DTSTAMP:20260419T155844
CREATED:20250116T092227Z
LAST-MODIFIED:20250116T093509Z
UID:2312-1740819600-1740934800@four-solaire-solidaire.net
SUMMARY:Portes ouvertes AÉSS\, au siège et ateliers
DESCRIPTION:présentation des fours\, de nos ateliers\, démonstration de cuisson solaire ; démonstration de cadran solaireanalemmatique. Possibilité de pique niquer sur place. Présentation de nos gazettes et autres documentations. \n\n\n\nRéservations conseillées
URL:https://four-solaire-solidaire.net/event/portes-ouvertes-aess-au-siege-et-ateliers/
LOCATION:AESS – Siège – Ateliers\, 1662 route de la Vallée des Touches\, Mignaloux Beauvoir\, 86550\, France
CATEGORIES:Manifestation
END:VEVENT
BEGIN:VEVENT
DTSTART;TZID=Europe/Paris:20241101T000000
DTEND;TZID=Europe/Paris:20241130T235959
DTSTAMP:20260419T155844
CREATED:20240304T105941Z
LAST-MODIFIED:20240304T105942Z
UID:2189-1730419200-1733011199@four-solaire-solidaire.net
SUMMARY:Mission "cuisson solaire"\, au Sénégal
DESCRIPTION:
URL:https://four-solaire-solidaire.net/event/mission-cuisson-solaire-au-senegal/
END:VEVENT
BEGIN:VEVENT
DTSTART;TZID=Europe/Paris:20241005T140000
DTEND;TZID=Europe/Paris:20241006T180000
DTSTAMP:20260419T155844
CREATED:20240304T105814Z
LAST-MODIFIED:20240930T072022Z
UID:2187-1728136800-1728237600@four-solaire-solidaire.net
SUMMARY:13ème fête de la science
DESCRIPTION:
URL:https://four-solaire-solidaire.net/event/13eme-fete-de-la-science/
LOCATION:Les magnals\, 86550 Mignaloux-Beauvoir\, 192 Allée des Magnals\, Mignaloux-Beauvoir\, 86550\, France
END:VEVENT
BEGIN:VEVENT
DTSTART;TZID=Europe/Paris:20240914T000000
DTEND;TZID=Europe/Paris:20240915T235959
DTSTAMP:20260419T155844
CREATED:20240304T101208Z
LAST-MODIFIED:20240304T101209Z
UID:2185-1726272000-1726444799@four-solaire-solidaire.net
SUMMARY:Fête de la sidérurgie gauloise
DESCRIPTION:
URL:https://four-solaire-solidaire.net/event/fete-de-la-siderurgie-gauloise/
LOCATION:Mignaloux-Beauvoir\, Mignaloux-Beauvoir\, 86550
END:VEVENT
BEGIN:VEVENT
DTSTART;TZID=Europe/Paris:20240901T000000
DTEND;TZID=Europe/Paris:20240901T235959
DTSTAMP:20260419T155844
CREATED:20240304T101024Z
LAST-MODIFIED:20240827T071412Z
UID:2183-1725148800-1725235199@four-solaire-solidaire.net
SUMMARY:Forum des associations & Grande Braderie
DESCRIPTION:Nous serons présents au Forum des associations de Mignaloux et à la grande braderie municipale gratuite
URL:https://four-solaire-solidaire.net/event/forum-des-associations-grande-braderie/
LOCATION:Mignaloux-Beauvoir\, Mignaloux-Beauvoir\, 86550\, France
END:VEVENT
BEGIN:VEVENT
DTSTART;TZID=Europe/Paris:20240704T103000
DTEND;TZID=Europe/Paris:20240704T180000
DTSTAMP:20260419T155844
CREATED:20240304T095619Z
LAST-MODIFIED:20240304T095709Z
UID:2177-1720089000-1720116000@four-solaire-solidaire.net
SUMMARY:80ème commémoration du crash du bombardier américain à Persac (4 juillet 1944)
DESCRIPTION:
URL:https://four-solaire-solidaire.net/event/80eme-commemoration-du-crash-du-bombardier-americain-a-persac-4-juillet-1944/
LOCATION:Espace 3 Rivières\, Place de l'église\, Persac\, 86320
END:VEVENT
BEGIN:VEVENT
DTSTART;TZID=Europe/Paris:20240623T100000
DTEND;TZID=Europe/Paris:20240623T180000
DTSTAMP:20260419T155844
CREATED:20240617T080212Z
LAST-MODIFIED:20240617T082124Z
UID:2254-1719136800-1719165600@four-solaire-solidaire.net
SUMMARY:Fête du soleil - four et cuisson solaire
DESCRIPTION:organisée par l’AESS\n\n\n\norganisée par l’AESS
URL:https://four-solaire-solidaire.net/event/fete-du-soleil/
LOCATION:Place de l’église\, Place de l'église\, Mignaloux-Beauvoir\, 86550
END:VEVENT
BEGIN:VEVENT
DTSTART;TZID=Europe/Paris:20240621T080000
DTEND;TZID=Europe/Paris:20240831T170000
DTSTAMP:20260419T155844
CREATED:20240304T100117Z
LAST-MODIFIED:20240304T100118Z
UID:2181-1718956800-1725123600@four-solaire-solidaire.net
SUMMARY:été 2024 - construction du Bas fourneau gaulois
DESCRIPTION:sentier « les magiciens de la terre »
URL:https://four-solaire-solidaire.net/event/ete-2024-construction-du-bas-fourneau-gaulois/
LOCATION:Mignaloux-Beauvoir\, Mignaloux-Beauvoir\, 86550
END:VEVENT
BEGIN:VEVENT
DTSTART;TZID=Europe/Paris:20240605T090000
DTEND;TZID=Europe/Paris:20240605T110000
DTSTAMP:20260419T155844
CREATED:20240304T094156Z
LAST-MODIFIED:20240605T131645Z
UID:2169-1717578000-1717585200@four-solaire-solidaire.net
SUMMARY:Balade culturelle
DESCRIPTION:place de l’église de Mignaloux \n\n\n\n« entre fours à pains contemporains et bas fourneaux gaulois\, remontons le temps! » \n\n\n\n\n\nLe dimanche 9 juin – avec les Conseils de quartier Q1 et Q2 de Mignaloux \n\n\n\n(fours à pains\, ancienne mairie et école\, bas fourneaux gaulois) 
URL:https://four-solaire-solidaire.net/event/balade-culturelle/
LOCATION:Mignaloux-Beauvoir\, Mignaloux-Beauvoir\, 86550
END:VEVENT
BEGIN:VEVENT
DTSTART;TZID=Europe/Paris:20240602T113000
DTEND;TZID=Europe/Paris:20240602T190000
DTSTAMP:20260419T155844
CREATED:20240304T093553Z
LAST-MODIFIED:20240304T093554Z
UID:2167-1717327800-1717354800@four-solaire-solidaire.net
SUMMARY:Monde en Fête
DESCRIPTION:Dimanche 2 juin – fête du Toit du Monde
URL:https://four-solaire-solidaire.net/event/monde-en-fete/
LOCATION:Moulin de Chasseigne\, boulevard Chasseigne\, Poitiers\, 86000
END:VEVENT
BEGIN:VEVENT
DTSTART;TZID=Europe/Paris:20240525T000000
DTEND;TZID=Europe/Paris:20240525T235959
DTSTAMP:20260419T155844
CREATED:20240514T173256Z
LAST-MODIFIED:20240514T173257Z
UID:2243-1716595200-1716681599@four-solaire-solidaire.net
SUMMARY:Montage d'un four solaire parabolique familial et démonstration cuisson solaire
DESCRIPTION:à La Rochelle\, dans la cadre de « l’agriculture urbaine »
URL:https://four-solaire-solidaire.net/event/montage-dun-four-solaire-parabolique-familial-et-demonstration-cuisson-solaire/
LOCATION:La Rochelle\, La Rochelle\, france\, 17000
END:VEVENT
BEGIN:VEVENT
DTSTART;TZID=Europe/Paris:20240521T090000
DTEND;TZID=Europe/Paris:20240521T170000
DTSTAMP:20260419T155844
CREATED:20240514T170116Z
LAST-MODIFIED:20240514T170118Z
UID:2238-1716282000-1716310800@four-solaire-solidaire.net
SUMMARY:Stage d'auto construction de four solaire "le Mignalien 140"
DESCRIPTION:3ème stage d’auto construction de four solaire
URL:https://four-solaire-solidaire.net/event/stage-dauto-construction-de-four-solaire-le-mignalien-140/
LOCATION:Mignaloux-Beauvoir\, Mignaloux-Beauvoir\, 86550
END:VEVENT
BEGIN:VEVENT
DTSTART;TZID=Europe/Paris:20240426T200000
DTEND;TZID=Europe/Paris:20240426T213000
DTSTAMP:20260419T155844
CREATED:20240425T094738Z
LAST-MODIFIED:20240425T122611Z
UID:2203-1714161600-1714167000@four-solaire-solidaire.net
SUMMARY:"Quelle énergie pour demain?"
DESCRIPTION:Réunion d’information et d’échanges ce vendredi 26 avril 2024
URL:https://four-solaire-solidaire.net/event/quelle-energie-pour-demainreunion-dinformation-et-dechanges/
LOCATION:Salle des fêtes Michel Maupin\, Rue du Quai\, Lussac Les Châteaux\, 86320
END:VEVENT
END:VCALENDAR